BEGIN:VCALENDAR
VERSION:2.0
PRODID:Festa em Honra da Nª Srª Graça - Anaguéis
X-WR-CALNAME:Festa em Honra da Nª Srª Graça - Anaguéis
X-WR-TIMEZONE:Europe/Lisbon
X-PUBLISHED-TTL:P1W
BEGIN:VTIMEZONE
TZID:Europe/Lisbon
X-LIC-LOCATION:Europe/Lisbon
END:VTIMEZONE
BEGIN:VEVENT
UID:69e77c6c63c97
DTSTART;VALUE=DATE:20260430
SEQUENCE:0
TRANSP:OPAQUE
DTEND;VALUE=DATE:20260501
SUMMARY:Festa em Honra da Nª Srª Graça - Anaguéis
CLASS:PUBLIC
DESCRIPTION:Festas de Anaguéis 2026A Comissão de Festas tem a honra de co
 nvidar toda a população a participar nas festividades em honra de Nossa
  Senhora da Graça\, que decorrerão de 25 de abril a 3 de maio de 2026.O
  programa contempla diversos momentos de convívio\, tradição e animaç
 ão\, com destaque para:• Noite da Juventude• Concertos e atuações m
 usicais• Arruadas e banda filarmónica• Celebrações religiosas e pro
 cissão• Fogo de artifício e encerramento festivoContamos com a presen
 ça de todos para celebrar esta tradição que tanto dignifica a nossa com
 unidade.25 de abril a 3 de maio de 2026
X-MICROSOFT-CDO-ALLDAYEVENT:TRUE
DTSTAMP:20260421T133228Z
END:VEVENT
END:VCALENDAR