BEGIN:VCALENDAR
VERSION:2.0
PRODID:Festa em Honra da Nª Srª Graça - Anaguéis
X-WR-CALNAME:Festa em Honra da Nª Srª Graça - Anaguéis
X-WR-TIMEZONE:Europe/Lisbon
X-PUBLISHED-TTL:P1W
BEGIN:VTIMEZONE
TZID:Europe/Lisbon
X-LIC-LOCATION:Europe/Lisbon
END:VTIMEZONE
BEGIN:VEVENT
UID:69e7671995bf5
DTSTART;VALUE=DATE:20260425
SEQUENCE:0
TRANSP:OPAQUE
DTEND;VALUE=DATE:20260426
SUMMARY:Festa em Honra da Nª Srª Graça - Anaguéis
CLASS:PUBLIC
DESCRIPTION:Festas de Anaguéis 2026A Comissão de Festas tem a honra de co
 nvidar toda a população a participar nas festividades em honra de Nossa 
 Senhora da Graça\, que decorrerão de 25 de abril a 3 de maio de 2026.O p
 rograma contempla diversos momentos de convívio\, tradição e animação
 \, com destaque para:• Noite da Juventude• Concertos e atuações musi
 cais• Arruadas e banda filarmónica• Celebrações religiosas e procis
 são• Fogo de artifício e encerramento festivoContamos com a presença 
 de todos para celebrar esta tradição que tanto dignifica a nossa comunid
 ade.25 de abril a 3 de maio de 2026
X-MICROSOFT-CDO-ALLDAYEVENT:TRUE
DTSTAMP:20260421T120129Z
END:VEVENT
END:VCALENDAR